BEGIN:VCALENDAR
VERSION:2.0
PRODID:-//Mr. Grant&#039;s Record Bar - ECPv6.15.7//NONSGML v1.0//EN
CALSCALE:GREGORIAN
METHOD:PUBLISH
X-ORIGINAL-URL:https://mrgrants.com.au
X-WR-CALDESC:Events for Mr. Grant&#039;s Record Bar
REFRESH-INTERVAL;VALUE=DURATION:PT1H
X-Robots-Tag:noindex
X-PUBLISHED-TTL:PT1H
BEGIN:VTIMEZONE
TZID:UTC
BEGIN:STANDARD
TZOFFSETFROM:+0000
TZOFFSETTO:+0000
TZNAME:UTC
DTSTART:20250101T000000
END:STANDARD
END:VTIMEZONE
BEGIN:VEVENT
DTSTART;TZID=UTC:20260508T193000
DTEND;TZID=UTC:20260508T230000
DTSTAMP:20260419T224826
CREATED:20250929T025607Z
LAST-MODIFIED:20250930T020628Z
UID:10000067-1778268600-1778281200@mrgrants.com.au
SUMMARY:Vinyl DJ Friday & Saturday
DESCRIPTION:
URL:https://mrgrants.com.au/event/my-new-event/2026-05-08/
CATEGORIES:Entertainment
ATTACH;FMTTYPE=image/jpeg:https://mrgrants.com.au/wp-content/uploads/2025/09/DJ.jpg
END:VEVENT
END:VCALENDAR